BEGIN:VCALENDAR
VERSION:2.0
PRODID:-//Treetop Zen Center - ECPv6.15.17.1//NONSGML v1.0//EN
CALSCALE:GREGORIAN
METHOD:PUBLISH
X-WR-CALNAME:Treetop Zen Center
X-ORIGINAL-URL:https://www.treetopzencenter.org
X-WR-CALDESC:Events for Treetop Zen Center
REFRESH-INTERVAL;VALUE=DURATION:PT1H
X-Robots-Tag:noindex
X-PUBLISHED-TTL:PT1H
BEGIN:VTIMEZONE
TZID:America/New_York
BEGIN:DAYLIGHT
TZOFFSETFROM:-0500
TZOFFSETTO:-0400
TZNAME:EDT
DTSTART:20250309T070000
END:DAYLIGHT
BEGIN:STANDARD
TZOFFSETFROM:-0400
TZOFFSETTO:-0500
TZNAME:EST
DTSTART:20251102T060000
END:STANDARD
BEGIN:DAYLIGHT
TZOFFSETFROM:-0500
TZOFFSETTO:-0400
TZNAME:EDT
DTSTART:20260308T070000
END:DAYLIGHT
BEGIN:STANDARD
TZOFFSETFROM:-0400
TZOFFSETTO:-0500
TZNAME:EST
DTSTART:20261101T060000
END:STANDARD
BEGIN:DAYLIGHT
TZOFFSETFROM:-0500
TZOFFSETTO:-0400
TZNAME:EDT
DTSTART:20270314T070000
END:DAYLIGHT
BEGIN:STANDARD
TZOFFSETFROM:-0400
TZOFFSETTO:-0500
TZNAME:EST
DTSTART:20271107T060000
END:STANDARD
END:VTIMEZONE
BEGIN:VEVENT
DTSTART;TZID=America/New_York:20260603T190000
DTEND;TZID=America/New_York:20260603T200000
DTSTAMP:20260423T194209
CREATED:20260310T143846Z
LAST-MODIFIED:20260310T143851Z
UID:6612-1780513200-1780516800@www.treetopzencenter.org
SUMMARY:Wednesday Night Weekly Meditation
DESCRIPTION:Wednesday 7pm Weekly Meditations				\n				\n				\n				\n							\n			\n		\n						\n				\n				\n				\n									\n					\n						\n									Click here to join the Zoom meeting.\n					\n					\n				\n								\n				\n				\n				\n					meeting ID: 825 3357 2460passcode: treetop.20				\n				\n					\n		\n					\n		\n				\n						\n					\n			\n						\n				\n							\n			\n		\n						\n				\n				\n				\n					About Our Meditations:				\n				\n				\n				\n							\n			\n		\n						\n				\n				\n				\n									Unless otherwise noted\, Treetop meets every Wednesday night and Saturday morning for meditation.The Wednesday program consists of two 25-minute periods of zazen (seated meditation). The first period ends with five minutes of kinhin (walking meditation)\, which is often followed by a brief talk with discussion. During the second sitting period\, the teachers offer daisan (a private interview to discuss practice) to those attending in person.The Saturday program begins with a 25-minute service followed by two 25-minute periods of zazen (seated meditation). The first period ends with five minutes of kinhin (walking meditation) and commonly a dharma talk or monthly recitation of the precepts (fusatsu). During the second sitting period\, the teachers offer daisan (a private interview to discuss practice) to those attending in person.We offer cushions as well as kneeling benches and chairs.								\n				\n				\n				\n							\n			\n		\n						\n				\n				\n				\n							\n			\n						\n		\n						\n				\n				\n				\n							\n			\n		\n						\n				\n				\n				\n					More information\, service books\, and chants:				\n				\n				\n				\n							\n			\n		\n						\n				\n				\n						\n					\n			\n						\n				\n									\n					\n						\n									Zen 1-2-3\n					\n					\n				\n								\n				\n				\n				\n									the basics of Zen and sitting 								\n				\n					\n		\n				\n			\n						\n				\n									\n					\n						\n									Gathas\n					\n					\n				\n								\n				\n				\n				\n									to follow along with our chants 								\n				\n					\n		\n				\n			\n						\n				\n									\n					\n						\n									Service Book\n					\n					\n				\n								\n				\n				\n				\n									to follow along with service chants 								\n				\n					\n		\n				\n			\n						\n				\n									\n					\n						\n									Fusatsu\n					\n					\n				\n								\n				\n				\n				\n									chants for the renewal of vows 								\n				\n					\n		\n					\n		\n					\n		\n					\n		\n				\n						\n					\n			\n						\n				\n							\n			\n						\n		\n						\n				\n				\n				\n							\n			\n		\n						\n				\n				\n				\n							\n			\n		\n						\n				\n				\n				\n					\n	\n		\n\n	\n	Add to calendar	\n		\n	\n\n		\n			\n									\n	Google Calendar\n\n									\n	iCalendar\n\n									\n	Outlook 365\n\n									\n	Outlook Live\n\n							\n		\n\n		\n	\n\n				\n				\n				\n				\n									\n					\n						\n									All Events
URL:https://www.treetopzencenter.org/event/wednesday-night-weekly-meditation-june-3-2026/
LOCATION:Treetop Zen Center\, 293 Country Club Road\, Oakland\, 04963\, United States
CATEGORIES:All Events,Meditation Events
ATTACH;FMTTYPE=image/png:https://www.treetopzencenter.org/wp-content/uploads/2024/05/weekly_meditation.png
END:VEVENT
BEGIN:VEVENT
DTSTART;TZID=America/New_York:20260606T090000
DTEND;TZID=America/New_York:20260606T100000
DTSTAMP:20260423T194209
CREATED:20260310T143748Z
LAST-MODIFIED:20260310T143820Z
UID:6610-1780736400-1780740000@www.treetopzencenter.org
SUMMARY:Saturday Morning Weekly Meditation
DESCRIPTION:Wednesday 7pm Weekly Meditations				\n				\n				\n				\n							\n			\n		\n						\n				\n				\n				\n									\n					\n						\n									Click here to join the Zoom meeting.\n					\n					\n				\n								\n				\n				\n				\n					meeting ID: 825 3357 2460passcode: treetop.20				\n				\n					\n		\n					\n		\n				\n						\n					\n			\n						\n				\n							\n			\n		\n						\n				\n				\n				\n					About Our Meditations:				\n				\n				\n				\n							\n			\n		\n						\n				\n				\n				\n									Unless otherwise noted\, Treetop meets every Wednesday night and Saturday morning for meditation.The Wednesday program consists of two 25-minute periods of zazen (seated meditation). The first period ends with five minutes of kinhin (walking meditation)\, which is often followed by a brief talk with discussion. During the second sitting period\, the teachers offer daisan (a private interview to discuss practice) to those attending in person.The Saturday program begins with a 25-minute service followed by two 25-minute periods of zazen (seated meditation). The first period ends with five minutes of kinhin (walking meditation) and commonly a dharma talk or monthly recitation of the precepts (fusatsu). During the second sitting period\, the teachers offer daisan (a private interview to discuss practice) to those attending in person.We offer cushions as well as kneeling benches and chairs.								\n				\n				\n				\n							\n			\n		\n						\n				\n				\n				\n							\n			\n						\n		\n						\n				\n				\n				\n							\n			\n		\n						\n				\n				\n				\n					More information\, service books\, and chants:				\n				\n				\n				\n							\n			\n		\n						\n				\n				\n						\n					\n			\n						\n				\n									\n					\n						\n									Zen 1-2-3\n					\n					\n				\n								\n				\n				\n				\n									the basics of Zen and sitting 								\n				\n					\n		\n				\n			\n						\n				\n									\n					\n						\n									Gathas\n					\n					\n				\n								\n				\n				\n				\n									to follow along with our chants 								\n				\n					\n		\n				\n			\n						\n				\n									\n					\n						\n									Service Book\n					\n					\n				\n								\n				\n				\n				\n									to follow along with service chants 								\n				\n					\n		\n				\n			\n						\n				\n									\n					\n						\n									Fusatsu\n					\n					\n				\n								\n				\n				\n				\n									chants for the renewal of vows 								\n				\n					\n		\n					\n		\n					\n		\n					\n		\n				\n						\n					\n			\n						\n				\n							\n			\n						\n		\n						\n				\n				\n				\n							\n			\n		\n						\n				\n				\n				\n							\n			\n		\n						\n				\n				\n				\n					\n	\n		\n\n	\n	Add to calendar	\n		\n	\n\n		\n			\n									\n	Google Calendar\n\n									\n	iCalendar\n\n									\n	Outlook 365\n\n									\n	Outlook Live\n\n							\n		\n\n		\n	\n\n				\n				\n				\n				\n									\n					\n						\n									All Events
URL:https://www.treetopzencenter.org/event/saturday-morning-weekly-meditation-june-6-2026/
LOCATION:Treetop Zen Center\, 293 Country Club Road\, Oakland\, 04963\, United States
CATEGORIES:All Events,Meditation Events
ATTACH;FMTTYPE=image/png:https://www.treetopzencenter.org/wp-content/uploads/2024/05/weekly_meditation.png
END:VEVENT
BEGIN:VEVENT
DTSTART;TZID=America/New_York:20260610T190000
DTEND;TZID=America/New_York:20260610T200000
DTSTAMP:20260423T194209
CREATED:20260310T143958Z
LAST-MODIFIED:20260310T144006Z
UID:6614-1781118000-1781121600@www.treetopzencenter.org
SUMMARY:Wednesday Night Weekly Meditation
DESCRIPTION:Wednesday 7pm Weekly Meditations				\n				\n				\n				\n							\n			\n		\n						\n				\n				\n				\n									\n					\n						\n									Click here to join the Zoom meeting.\n					\n					\n				\n								\n				\n				\n				\n					meeting ID: 825 3357 2460passcode: treetop.20				\n				\n					\n		\n					\n		\n				\n						\n					\n			\n						\n				\n							\n			\n		\n						\n				\n				\n				\n					About Our Meditations:				\n				\n				\n				\n							\n			\n		\n						\n				\n				\n				\n									Unless otherwise noted\, Treetop meets every Wednesday night and Saturday morning for meditation.The Wednesday program consists of two 25-minute periods of zazen (seated meditation). The first period ends with five minutes of kinhin (walking meditation)\, which is often followed by a brief talk with discussion. During the second sitting period\, the teachers offer daisan (a private interview to discuss practice) to those attending in person.The Saturday program begins with a 25-minute service followed by two 25-minute periods of zazen (seated meditation). The first period ends with five minutes of kinhin (walking meditation) and commonly a dharma talk or monthly recitation of the precepts (fusatsu). During the second sitting period\, the teachers offer daisan (a private interview to discuss practice) to those attending in person.We offer cushions as well as kneeling benches and chairs.								\n				\n				\n				\n							\n			\n		\n						\n				\n				\n				\n							\n			\n						\n		\n						\n				\n				\n				\n							\n			\n		\n						\n				\n				\n				\n					More information\, service books\, and chants:				\n				\n				\n				\n							\n			\n		\n						\n				\n				\n						\n					\n			\n						\n				\n									\n					\n						\n									Zen 1-2-3\n					\n					\n				\n								\n				\n				\n				\n									the basics of Zen and sitting 								\n				\n					\n		\n				\n			\n						\n				\n									\n					\n						\n									Gathas\n					\n					\n				\n								\n				\n				\n				\n									to follow along with our chants 								\n				\n					\n		\n				\n			\n						\n				\n									\n					\n						\n									Service Book\n					\n					\n				\n								\n				\n				\n				\n									to follow along with service chants 								\n				\n					\n		\n				\n			\n						\n				\n									\n					\n						\n									Fusatsu\n					\n					\n				\n								\n				\n				\n				\n									chants for the renewal of vows 								\n				\n					\n		\n					\n		\n					\n		\n					\n		\n				\n						\n					\n			\n						\n				\n							\n			\n						\n		\n						\n				\n				\n				\n							\n			\n		\n						\n				\n				\n				\n							\n			\n		\n						\n				\n				\n				\n					\n	\n		\n\n	\n	Add to calendar	\n		\n	\n\n		\n			\n									\n	Google Calendar\n\n									\n	iCalendar\n\n									\n	Outlook 365\n\n									\n	Outlook Live\n\n							\n		\n\n		\n	\n\n				\n				\n				\n				\n									\n					\n						\n									All Events
URL:https://www.treetopzencenter.org/event/wednesday-night-weekly-meditation-june-10-2026/
LOCATION:Treetop Zen Center\, 293 Country Club Road\, Oakland\, 04963\, United States
CATEGORIES:All Events,Meditation Events
ATTACH;FMTTYPE=image/png:https://www.treetopzencenter.org/wp-content/uploads/2024/05/weekly_meditation.png
END:VEVENT
BEGIN:VEVENT
DTSTART;TZID=America/New_York:20260613T090000
DTEND;TZID=America/New_York:20260613T100000
DTSTAMP:20260423T194209
CREATED:20260310T144035Z
LAST-MODIFIED:20260310T144041Z
UID:6616-1781341200-1781344800@www.treetopzencenter.org
SUMMARY:Saturday Morning Weekly Meditation
DESCRIPTION:Wednesday 7pm Weekly Meditations				\n				\n				\n				\n							\n			\n		\n						\n				\n				\n				\n									\n					\n						\n									Click here to join the Zoom meeting.\n					\n					\n				\n								\n				\n				\n				\n					meeting ID: 825 3357 2460passcode: treetop.20				\n				\n					\n		\n					\n		\n				\n						\n					\n			\n						\n				\n							\n			\n		\n						\n				\n				\n				\n					About Our Meditations:				\n				\n				\n				\n							\n			\n		\n						\n				\n				\n				\n									Unless otherwise noted\, Treetop meets every Wednesday night and Saturday morning for meditation.The Wednesday program consists of two 25-minute periods of zazen (seated meditation). The first period ends with five minutes of kinhin (walking meditation)\, which is often followed by a brief talk with discussion. During the second sitting period\, the teachers offer daisan (a private interview to discuss practice) to those attending in person.The Saturday program begins with a 25-minute service followed by two 25-minute periods of zazen (seated meditation). The first period ends with five minutes of kinhin (walking meditation) and commonly a dharma talk or monthly recitation of the precepts (fusatsu). During the second sitting period\, the teachers offer daisan (a private interview to discuss practice) to those attending in person.We offer cushions as well as kneeling benches and chairs.								\n				\n				\n				\n							\n			\n		\n						\n				\n				\n				\n							\n			\n						\n		\n						\n				\n				\n				\n							\n			\n		\n						\n				\n				\n				\n					More information\, service books\, and chants:				\n				\n				\n				\n							\n			\n		\n						\n				\n				\n						\n					\n			\n						\n				\n									\n					\n						\n									Zen 1-2-3\n					\n					\n				\n								\n				\n				\n				\n									the basics of Zen and sitting 								\n				\n					\n		\n				\n			\n						\n				\n									\n					\n						\n									Gathas\n					\n					\n				\n								\n				\n				\n				\n									to follow along with our chants 								\n				\n					\n		\n				\n			\n						\n				\n									\n					\n						\n									Service Book\n					\n					\n				\n								\n				\n				\n				\n									to follow along with service chants 								\n				\n					\n		\n				\n			\n						\n				\n									\n					\n						\n									Fusatsu\n					\n					\n				\n								\n				\n				\n				\n									chants for the renewal of vows 								\n				\n					\n		\n					\n		\n					\n		\n					\n		\n				\n						\n					\n			\n						\n				\n							\n			\n						\n		\n						\n				\n				\n				\n							\n			\n		\n						\n				\n				\n				\n							\n			\n		\n						\n				\n				\n				\n					\n	\n		\n\n	\n	Add to calendar	\n		\n	\n\n		\n			\n									\n	Google Calendar\n\n									\n	iCalendar\n\n									\n	Outlook 365\n\n									\n	Outlook Live\n\n							\n		\n\n		\n	\n\n				\n				\n				\n				\n									\n					\n						\n									All Events
URL:https://www.treetopzencenter.org/event/saturday-morning-weekly-meditation-june-13-2026/
LOCATION:Treetop Zen Center\, 293 Country Club Road\, Oakland\, 04963\, United States
CATEGORIES:All Events,Meditation Events
ATTACH;FMTTYPE=image/png:https://www.treetopzencenter.org/wp-content/uploads/2024/05/weekly_meditation.png
END:VEVENT
BEGIN:VEVENT
DTSTART;TZID=America/New_York:20260617T190000
DTEND;TZID=America/New_York:20260617T200000
DTSTAMP:20260423T194209
CREATED:20260310T144106Z
LAST-MODIFIED:20260310T144111Z
UID:6618-1781722800-1781726400@www.treetopzencenter.org
SUMMARY:Wednesday Night Weekly Meditation
DESCRIPTION:Wednesday 7pm Weekly Meditations				\n				\n				\n				\n							\n			\n		\n						\n				\n				\n				\n									\n					\n						\n									Click here to join the Zoom meeting.\n					\n					\n				\n								\n				\n				\n				\n					meeting ID: 825 3357 2460passcode: treetop.20				\n				\n					\n		\n					\n		\n				\n						\n					\n			\n						\n				\n							\n			\n		\n						\n				\n				\n				\n					About Our Meditations:				\n				\n				\n				\n							\n			\n		\n						\n				\n				\n				\n									Unless otherwise noted\, Treetop meets every Wednesday night and Saturday morning for meditation.The Wednesday program consists of two 25-minute periods of zazen (seated meditation). The first period ends with five minutes of kinhin (walking meditation)\, which is often followed by a brief talk with discussion. During the second sitting period\, the teachers offer daisan (a private interview to discuss practice) to those attending in person.The Saturday program begins with a 25-minute service followed by two 25-minute periods of zazen (seated meditation). The first period ends with five minutes of kinhin (walking meditation) and commonly a dharma talk or monthly recitation of the precepts (fusatsu). During the second sitting period\, the teachers offer daisan (a private interview to discuss practice) to those attending in person.We offer cushions as well as kneeling benches and chairs.								\n				\n				\n				\n							\n			\n		\n						\n				\n				\n				\n							\n			\n						\n		\n						\n				\n				\n				\n							\n			\n		\n						\n				\n				\n				\n					More information\, service books\, and chants:				\n				\n				\n				\n							\n			\n		\n						\n				\n				\n						\n					\n			\n						\n				\n									\n					\n						\n									Zen 1-2-3\n					\n					\n				\n								\n				\n				\n				\n									the basics of Zen and sitting 								\n				\n					\n		\n				\n			\n						\n				\n									\n					\n						\n									Gathas\n					\n					\n				\n								\n				\n				\n				\n									to follow along with our chants 								\n				\n					\n		\n				\n			\n						\n				\n									\n					\n						\n									Service Book\n					\n					\n				\n								\n				\n				\n				\n									to follow along with service chants 								\n				\n					\n		\n				\n			\n						\n				\n									\n					\n						\n									Fusatsu\n					\n					\n				\n								\n				\n				\n				\n									chants for the renewal of vows 								\n				\n					\n		\n					\n		\n					\n		\n					\n		\n				\n						\n					\n			\n						\n				\n							\n			\n						\n		\n						\n				\n				\n				\n							\n			\n		\n						\n				\n				\n				\n							\n			\n		\n						\n				\n				\n				\n					\n	\n		\n\n	\n	Add to calendar	\n		\n	\n\n		\n			\n									\n	Google Calendar\n\n									\n	iCalendar\n\n									\n	Outlook 365\n\n									\n	Outlook Live\n\n							\n		\n\n		\n	\n\n				\n				\n				\n				\n									\n					\n						\n									All Events
URL:https://www.treetopzencenter.org/event/wednesday-night-weekly-meditation-june-17-2026/
LOCATION:Treetop Zen Center\, 293 Country Club Road\, Oakland\, 04963\, United States
CATEGORIES:All Events,Meditation Events
ATTACH;FMTTYPE=image/png:https://www.treetopzencenter.org/wp-content/uploads/2024/05/weekly_meditation.png
END:VEVENT
BEGIN:VEVENT
DTSTART;TZID=America/New_York:20260624T190000
DTEND;TZID=America/New_York:20260624T200000
DTSTAMP:20260423T194209
CREATED:20260310T144132Z
LAST-MODIFIED:20260310T144138Z
UID:6620-1782327600-1782331200@www.treetopzencenter.org
SUMMARY:Wednesday Night Weekly Meditation
DESCRIPTION:Wednesday 7pm Weekly Meditations				\n				\n				\n				\n							\n			\n		\n						\n				\n				\n				\n									\n					\n						\n									Click here to join the Zoom meeting.\n					\n					\n				\n								\n				\n				\n				\n					meeting ID: 825 3357 2460passcode: treetop.20				\n				\n					\n		\n					\n		\n				\n						\n					\n			\n						\n				\n							\n			\n		\n						\n				\n				\n				\n					About Our Meditations:				\n				\n				\n				\n							\n			\n		\n						\n				\n				\n				\n									Unless otherwise noted\, Treetop meets every Wednesday night and Saturday morning for meditation.The Wednesday program consists of two 25-minute periods of zazen (seated meditation). The first period ends with five minutes of kinhin (walking meditation)\, which is often followed by a brief talk with discussion. During the second sitting period\, the teachers offer daisan (a private interview to discuss practice) to those attending in person.The Saturday program begins with a 25-minute service followed by two 25-minute periods of zazen (seated meditation). The first period ends with five minutes of kinhin (walking meditation) and commonly a dharma talk or monthly recitation of the precepts (fusatsu). During the second sitting period\, the teachers offer daisan (a private interview to discuss practice) to those attending in person.We offer cushions as well as kneeling benches and chairs.								\n				\n				\n				\n							\n			\n		\n						\n				\n				\n				\n							\n			\n						\n		\n						\n				\n				\n				\n							\n			\n		\n						\n				\n				\n				\n					More information\, service books\, and chants:				\n				\n				\n				\n							\n			\n		\n						\n				\n				\n						\n					\n			\n						\n				\n									\n					\n						\n									Zen 1-2-3\n					\n					\n				\n								\n				\n				\n				\n									the basics of Zen and sitting 								\n				\n					\n		\n				\n			\n						\n				\n									\n					\n						\n									Gathas\n					\n					\n				\n								\n				\n				\n				\n									to follow along with our chants 								\n				\n					\n		\n				\n			\n						\n				\n									\n					\n						\n									Service Book\n					\n					\n				\n								\n				\n				\n				\n									to follow along with service chants 								\n				\n					\n		\n				\n			\n						\n				\n									\n					\n						\n									Fusatsu\n					\n					\n				\n								\n				\n				\n				\n									chants for the renewal of vows 								\n				\n					\n		\n					\n		\n					\n		\n					\n		\n				\n						\n					\n			\n						\n				\n							\n			\n						\n		\n						\n				\n				\n				\n							\n			\n		\n						\n				\n				\n				\n							\n			\n		\n						\n				\n				\n				\n					\n	\n		\n\n	\n	Add to calendar	\n		\n	\n\n		\n			\n									\n	Google Calendar\n\n									\n	iCalendar\n\n									\n	Outlook 365\n\n									\n	Outlook Live\n\n							\n		\n\n		\n	\n\n				\n				\n				\n				\n									\n					\n						\n									All Events
URL:https://www.treetopzencenter.org/event/wednesday-night-weekly-meditation-june-24-2026/
LOCATION:Treetop Zen Center\, 293 Country Club Road\, Oakland\, 04963\, United States
CATEGORIES:All Events,Meditation Events
ATTACH;FMTTYPE=image/png:https://www.treetopzencenter.org/wp-content/uploads/2024/05/weekly_meditation.png
END:VEVENT
BEGIN:VEVENT
DTSTART;TZID=America/New_York:20260627T090000
DTEND;TZID=America/New_York:20260627T100000
DTSTAMP:20260423T194209
CREATED:20260310T144202Z
LAST-MODIFIED:20260310T144210Z
UID:6622-1782550800-1782554400@www.treetopzencenter.org
SUMMARY:Saturday Morning Weekly Meditation
DESCRIPTION:Wednesday 7pm Weekly Meditations				\n				\n				\n				\n							\n			\n		\n						\n				\n				\n				\n									\n					\n						\n									Click here to join the Zoom meeting.\n					\n					\n				\n								\n				\n				\n				\n					meeting ID: 825 3357 2460passcode: treetop.20				\n				\n					\n		\n					\n		\n				\n						\n					\n			\n						\n				\n							\n			\n		\n						\n				\n				\n				\n					About Our Meditations:				\n				\n				\n				\n							\n			\n		\n						\n				\n				\n				\n									Unless otherwise noted\, Treetop meets every Wednesday night and Saturday morning for meditation.The Wednesday program consists of two 25-minute periods of zazen (seated meditation). The first period ends with five minutes of kinhin (walking meditation)\, which is often followed by a brief talk with discussion. During the second sitting period\, the teachers offer daisan (a private interview to discuss practice) to those attending in person.The Saturday program begins with a 25-minute service followed by two 25-minute periods of zazen (seated meditation). The first period ends with five minutes of kinhin (walking meditation) and commonly a dharma talk or monthly recitation of the precepts (fusatsu). During the second sitting period\, the teachers offer daisan (a private interview to discuss practice) to those attending in person.We offer cushions as well as kneeling benches and chairs.								\n				\n				\n				\n							\n			\n		\n						\n				\n				\n				\n							\n			\n						\n		\n						\n				\n				\n				\n							\n			\n		\n						\n				\n				\n				\n					More information\, service books\, and chants:				\n				\n				\n				\n							\n			\n		\n						\n				\n				\n						\n					\n			\n						\n				\n									\n					\n						\n									Zen 1-2-3\n					\n					\n				\n								\n				\n				\n				\n									the basics of Zen and sitting 								\n				\n					\n		\n				\n			\n						\n				\n									\n					\n						\n									Gathas\n					\n					\n				\n								\n				\n				\n				\n									to follow along with our chants 								\n				\n					\n		\n				\n			\n						\n				\n									\n					\n						\n									Service Book\n					\n					\n				\n								\n				\n				\n				\n									to follow along with service chants 								\n				\n					\n		\n				\n			\n						\n				\n									\n					\n						\n									Fusatsu\n					\n					\n				\n								\n				\n				\n				\n									chants for the renewal of vows 								\n				\n					\n		\n					\n		\n					\n		\n					\n		\n				\n						\n					\n			\n						\n				\n							\n			\n						\n		\n						\n				\n				\n				\n							\n			\n		\n						\n				\n				\n				\n							\n			\n		\n						\n				\n				\n				\n					\n	\n		\n\n	\n	Add to calendar	\n		\n	\n\n		\n			\n									\n	Google Calendar\n\n									\n	iCalendar\n\n									\n	Outlook 365\n\n									\n	Outlook Live\n\n							\n		\n\n		\n	\n\n				\n				\n				\n				\n									\n					\n						\n									All Events
URL:https://www.treetopzencenter.org/event/saturday-morning-weekly-meditation-june-27-2026/
LOCATION:Treetop Zen Center\, 293 Country Club Road\, Oakland\, 04963\, United States
CATEGORIES:All Events,Meditation Events
ATTACH;FMTTYPE=image/png:https://www.treetopzencenter.org/wp-content/uploads/2024/05/weekly_meditation.png
END:VEVENT
END:VCALENDAR