BEGIN:VCALENDAR
VERSION:2.0
PRODID:-//Treetop Zen Center - ECPv6.15.17.1//NONSGML v1.0//EN
CALSCALE:GREGORIAN
METHOD:PUBLISH
X-WR-CALNAME:Treetop Zen Center
X-ORIGINAL-URL:https://www.treetopzencenter.org
X-WR-CALDESC:Events for Treetop Zen Center
REFRESH-INTERVAL;VALUE=DURATION:PT1H
X-Robots-Tag:noindex
X-PUBLISHED-TTL:PT1H
BEGIN:VTIMEZONE
TZID:America/New_York
BEGIN:DAYLIGHT
TZOFFSETFROM:-0500
TZOFFSETTO:-0400
TZNAME:EDT
DTSTART:20230312T070000
END:DAYLIGHT
BEGIN:STANDARD
TZOFFSETFROM:-0400
TZOFFSETTO:-0500
TZNAME:EST
DTSTART:20231105T060000
END:STANDARD
BEGIN:DAYLIGHT
TZOFFSETFROM:-0500
TZOFFSETTO:-0400
TZNAME:EDT
DTSTART:20240310T070000
END:DAYLIGHT
BEGIN:STANDARD
TZOFFSETFROM:-0400
TZOFFSETTO:-0500
TZNAME:EST
DTSTART:20241103T060000
END:STANDARD
BEGIN:DAYLIGHT
TZOFFSETFROM:-0500
TZOFFSETTO:-0400
TZNAME:EDT
DTSTART:20250309T070000
END:DAYLIGHT
BEGIN:STANDARD
TZOFFSETFROM:-0400
TZOFFSETTO:-0500
TZNAME:EST
DTSTART:20251102T060000
END:STANDARD
END:VTIMEZONE
BEGIN:VEVENT
DTSTART;TZID=America/New_York:20240601T080000
DTEND;TZID=America/New_York:20240601T160000
DTSTAMP:20260423T174425
CREATED:20240603T180603Z
LAST-MODIFIED:20240603T180719Z
UID:4193-1717228800-1717257600@www.treetopzencenter.org
SUMMARY:Heart Sutra Study Group — June 1sh (pages 145–160)
DESCRIPTION:Treetop students will be leading a study group on Red Pine’s translation of the Heart Sutra over 10 Saturdays beginning March 16th. We’ll be meeting immediately after sits for a casual\, non-academic discussion of how each week’s reading resonated with us and how we interpret it. All are welcome to join in and are encouraged to bring a bag lunch. \nSaturday\, June 1st (pages 145–160)\nPart Four: 29. You Should Therefore Know the Great Mantra of Prajnaparamita; 30. The Mantra of Great Magic; 31. The Unexcelled Mantra; 32. The Mantra Equal to the Unequalled; 33. Which Heals All Suffering and Is True\, Not False; 34. The Mantra in Prajnaparamita Spoken Thus; and 35. Gate Gate\, Paragate\, Parasangate\, Bodhi Svaha
URL:https://www.treetopzencenter.org/event/heart-sutra-study-group-june-1st-pages-145-160/
LOCATION:Treetop Zen Center\, 293 Country Club Road\, Oakland\, 04963\, United States
CATEGORIES:All Events,Study Groups
ATTACH;FMTTYPE=image/png:https://www.treetopzencenter.org/wp-content/uploads/2024/06/study_group.png
END:VEVENT
END:VCALENDAR