BEGIN:VCALENDAR
VERSION:2.0
PRODID:-//Treetop Zen Center - ECPv6.15.17.1//NONSGML v1.0//EN
CALSCALE:GREGORIAN
METHOD:PUBLISH
X-WR-CALNAME:Treetop Zen Center
X-ORIGINAL-URL:https://www.treetopzencenter.org
X-WR-CALDESC:Events for Treetop Zen Center
REFRESH-INTERVAL;VALUE=DURATION:PT1H
X-Robots-Tag:noindex
X-PUBLISHED-TTL:PT1H
BEGIN:VTIMEZONE
TZID:America/New_York
BEGIN:DAYLIGHT
TZOFFSETFROM:-0500
TZOFFSETTO:-0400
TZNAME:EDT
DTSTART:20230312T070000
END:DAYLIGHT
BEGIN:STANDARD
TZOFFSETFROM:-0400
TZOFFSETTO:-0500
TZNAME:EST
DTSTART:20231105T060000
END:STANDARD
BEGIN:DAYLIGHT
TZOFFSETFROM:-0500
TZOFFSETTO:-0400
TZNAME:EDT
DTSTART:20240310T070000
END:DAYLIGHT
BEGIN:STANDARD
TZOFFSETFROM:-0400
TZOFFSETTO:-0500
TZNAME:EST
DTSTART:20241103T060000
END:STANDARD
BEGIN:DAYLIGHT
TZOFFSETFROM:-0500
TZOFFSETTO:-0400
TZNAME:EDT
DTSTART:20250309T070000
END:DAYLIGHT
BEGIN:STANDARD
TZOFFSETFROM:-0400
TZOFFSETTO:-0500
TZNAME:EST
DTSTART:20251102T060000
END:STANDARD
BEGIN:DAYLIGHT
TZOFFSETFROM:-0500
TZOFFSETTO:-0400
TZNAME:EDT
DTSTART:20260308T070000
END:DAYLIGHT
BEGIN:STANDARD
TZOFFSETFROM:-0400
TZOFFSETTO:-0500
TZNAME:EST
DTSTART:20261101T060000
END:STANDARD
END:VTIMEZONE
BEGIN:VEVENT
DTSTART;VALUE=DATE:20251008
DTEND;VALUE=DATE:20251013
DTSTAMP:20260423T191455
CREATED:20250118T032854Z
LAST-MODIFIED:20250118T034433Z
UID:6041-1759881600-1760313599@www.treetopzencenter.org
SUMMARY:Autumn Sesshin
DESCRIPTION:Wednesday 7pm Weekly Meditations				\n				\n				\n				\n							\n			\n		\n						\n				\n				\n				\n									\n					\n						\n									Click here to join the Zoom meeting.\n					\n					\n				\n								\n				\n				\n				\n					meeting ID: 825 3357 2460passcode: treetop.20				\n				\n					\n		\n					\n		\n				\n						\n					\n			\n						\n				\n							\n			\n		\n						\n				\n				\n				\n					About Our Meditations:				\n				\n				\n				\n							\n			\n		\n						\n				\n				\n				\n									Unless otherwise noted\, Treetop meets every Wednesday night and Saturday morning for meditation.The Wednesday program consists of two 25-minute periods of zazen (seated meditation). The first period ends with five minutes of kinhin (walking meditation)\, which is often followed by a brief talk with discussion. During the second sitting period\, the teachers offer daisan (a private interview to discuss practice) to those attending in person.The Saturday program begins with a 25-minute service followed by two 25-minute periods of zazen (seated meditation). The first period ends with five minutes of kinhin (walking meditation) and commonly a dharma talk or monthly recitation of the precepts (fusatsu). During the second sitting period\, the teachers offer daisan (a private interview to discuss practice) to those attending in person.We offer cushions as well as kneeling benches and chairs.								\n				\n				\n				\n							\n			\n		\n						\n				\n				\n				\n							\n			\n						\n		\n						\n				\n				\n				\n							\n			\n		\n						\n				\n				\n				\n					More information\, service books\, and chants:				\n				\n				\n				\n							\n			\n		\n						\n				\n				\n						\n					\n			\n						\n				\n									\n					\n						\n									Zen 1-2-3\n					\n					\n				\n								\n				\n				\n				\n									the basics of Zen and sitting 								\n				\n					\n		\n				\n			\n						\n				\n									\n					\n						\n									Gathas\n					\n					\n				\n								\n				\n				\n				\n									to follow along with our chants 								\n				\n					\n		\n				\n			\n						\n				\n									\n					\n						\n									Service Book\n					\n					\n				\n								\n				\n				\n				\n									to follow along with service chants 								\n				\n					\n		\n				\n			\n						\n				\n									\n					\n						\n									Fusatsu\n					\n					\n				\n								\n				\n				\n				\n									chants for the renewal of vows 								\n				\n					\n		\n					\n		\n					\n		\n					\n		\n				\n						\n					\n			\n						\n				\n							\n			\n						\n		\n						\n				\n				\n				\n							\n			\n		\n						\n				\n				\n				\n							\n			\n		\n						\n				\n				\n				\n					\n	\n		\n\n	\n	Add to calendar	\n		\n	\n\n		\n			\n									\n	Google Calendar\n\n									\n	iCalendar\n\n									\n	Outlook 365\n\n									\n	Outlook Live\n\n							\n		\n\n		\n	\n\n				\n				\n				\n				\n									\n					\n						\n									All Events
URL:https://www.treetopzencenter.org/event/autumn-sesshin/
LOCATION:Treetop Zen Center\, 293 Country Club Road\, Oakland\, 04963\, United States
CATEGORIES:All Events,Sesshins
ATTACH;FMTTYPE=image/jpeg:https://www.treetopzencenter.org/wp-content/uploads/2025/01/images.jpg
END:VEVENT
BEGIN:VEVENT
DTSTART;TZID=America/New_York:20250913T090000
DTEND;TZID=America/New_York:20250913T110000
DTSTAMP:20260423T191455
CREATED:20240603T181528Z
LAST-MODIFIED:20250118T032255Z
UID:4196-1757754000-1757761200@www.treetopzencenter.org
SUMMARY:Memorial Service for Stef
DESCRIPTION:Wednesday 7pm Weekly Meditations				\n				\n				\n				\n							\n			\n		\n						\n				\n				\n				\n									\n					\n						\n									Click here to join the Zoom meeting.\n					\n					\n				\n								\n				\n				\n				\n					meeting ID: 825 3357 2460passcode: treetop.20				\n				\n					\n		\n					\n		\n				\n						\n					\n			\n						\n				\n							\n			\n		\n						\n				\n				\n				\n					About Our Meditations:				\n				\n				\n				\n							\n			\n		\n						\n				\n				\n				\n									Unless otherwise noted\, Treetop meets every Wednesday night and Saturday morning for meditation.The Wednesday program consists of two 25-minute periods of zazen (seated meditation). The first period ends with five minutes of kinhin (walking meditation)\, which is often followed by a brief talk with discussion. During the second sitting period\, the teachers offer daisan (a private interview to discuss practice) to those attending in person.The Saturday program begins with a 25-minute service followed by two 25-minute periods of zazen (seated meditation). The first period ends with five minutes of kinhin (walking meditation) and commonly a dharma talk or monthly recitation of the precepts (fusatsu). During the second sitting period\, the teachers offer daisan (a private interview to discuss practice) to those attending in person.We offer cushions as well as kneeling benches and chairs.								\n				\n				\n				\n							\n			\n		\n						\n				\n				\n				\n							\n			\n						\n		\n						\n				\n				\n				\n							\n			\n		\n						\n				\n				\n				\n					More information\, service books\, and chants:				\n				\n				\n				\n							\n			\n		\n						\n				\n				\n						\n					\n			\n						\n				\n									\n					\n						\n									Zen 1-2-3\n					\n					\n				\n								\n				\n				\n				\n									the basics of Zen and sitting 								\n				\n					\n		\n				\n			\n						\n				\n									\n					\n						\n									Gathas\n					\n					\n				\n								\n				\n				\n				\n									to follow along with our chants 								\n				\n					\n		\n				\n			\n						\n				\n									\n					\n						\n									Service Book\n					\n					\n				\n								\n				\n				\n				\n									to follow along with service chants 								\n				\n					\n		\n				\n			\n						\n				\n									\n					\n						\n									Fusatsu\n					\n					\n				\n								\n				\n				\n				\n									chants for the renewal of vows 								\n				\n					\n		\n					\n		\n					\n		\n					\n		\n				\n						\n					\n			\n						\n				\n							\n			\n						\n		\n						\n				\n				\n				\n							\n			\n		\n						\n				\n				\n				\n							\n			\n		\n						\n				\n				\n				\n					\n	\n		\n\n	\n	Add to calendar	\n		\n	\n\n		\n			\n									\n	Google Calendar\n\n									\n	iCalendar\n\n									\n	Outlook 365\n\n									\n	Outlook Live\n\n							\n		\n\n		\n	\n\n				\n				\n				\n				\n									\n					\n						\n									All Events
URL:https://www.treetopzencenter.org/event/memorial-service-for-stef/
LOCATION:Treetop Zen Center\, 293 Country Club Road\, Oakland\, 04963\, United States
CATEGORIES:All Events,Special Events and Ceremonies
ATTACH;FMTTYPE=image/jpeg:https://www.treetopzencenter.org/wp-content/uploads/2024/05/Stefano.jpg
END:VEVENT
BEGIN:VEVENT
DTSTART;VALUE=DATE:20250618
DTEND;VALUE=DATE:20250623
DTSTAMP:20260423T191455
CREATED:20250118T030256Z
LAST-MODIFIED:20250526T191624Z
UID:6029-1750204800-1750636799@www.treetopzencenter.org
SUMMARY:Summer Sesshin
DESCRIPTION:Wednesday 7pm Weekly Meditations				\n				\n				\n				\n							\n			\n		\n						\n				\n				\n				\n									\n					\n						\n									Click here to join the Zoom meeting.\n					\n					\n				\n								\n				\n				\n				\n					meeting ID: 825 3357 2460passcode: treetop.20				\n				\n					\n		\n					\n		\n				\n						\n					\n			\n						\n				\n							\n			\n		\n						\n				\n				\n				\n					About Our Meditations:				\n				\n				\n				\n							\n			\n		\n						\n				\n				\n				\n									Unless otherwise noted\, Treetop meets every Wednesday night and Saturday morning for meditation.The Wednesday program consists of two 25-minute periods of zazen (seated meditation). The first period ends with five minutes of kinhin (walking meditation)\, which is often followed by a brief talk with discussion. During the second sitting period\, the teachers offer daisan (a private interview to discuss practice) to those attending in person.The Saturday program begins with a 25-minute service followed by two 25-minute periods of zazen (seated meditation). The first period ends with five minutes of kinhin (walking meditation) and commonly a dharma talk or monthly recitation of the precepts (fusatsu). During the second sitting period\, the teachers offer daisan (a private interview to discuss practice) to those attending in person.We offer cushions as well as kneeling benches and chairs.								\n				\n				\n				\n							\n			\n		\n						\n				\n				\n				\n							\n			\n						\n		\n						\n				\n				\n				\n							\n			\n		\n						\n				\n				\n				\n					More information\, service books\, and chants:				\n				\n				\n				\n							\n			\n		\n						\n				\n				\n						\n					\n			\n						\n				\n									\n					\n						\n									Zen 1-2-3\n					\n					\n				\n								\n				\n				\n				\n									the basics of Zen and sitting 								\n				\n					\n		\n				\n			\n						\n				\n									\n					\n						\n									Gathas\n					\n					\n				\n								\n				\n				\n				\n									to follow along with our chants 								\n				\n					\n		\n				\n			\n						\n				\n									\n					\n						\n									Service Book\n					\n					\n				\n								\n				\n				\n				\n									to follow along with service chants 								\n				\n					\n		\n				\n			\n						\n				\n									\n					\n						\n									Fusatsu\n					\n					\n				\n								\n				\n				\n				\n									chants for the renewal of vows 								\n				\n					\n		\n					\n		\n					\n		\n					\n		\n				\n						\n					\n			\n						\n				\n							\n			\n						\n		\n						\n				\n				\n				\n							\n			\n		\n						\n				\n				\n				\n							\n			\n		\n						\n				\n				\n				\n					\n	\n		\n\n	\n	Add to calendar	\n		\n	\n\n		\n			\n									\n	Google Calendar\n\n									\n	iCalendar\n\n									\n	Outlook 365\n\n									\n	Outlook Live\n\n							\n		\n\n		\n	\n\n				\n				\n				\n				\n									\n					\n						\n									All Events
URL:https://www.treetopzencenter.org/event/summer-sesshin/
LOCATION:Treetop Zen Center\, 293 Country Club Road\, Oakland\, 04963\, United States
CATEGORIES:All Events,Sesshins
ATTACH;FMTTYPE=image/jpeg:https://www.treetopzencenter.org/wp-content/uploads/2024/05/oak-tree-1024x768-1.jpg
END:VEVENT
BEGIN:VEVENT
DTSTART;VALUE=DATE:20250409
DTEND;VALUE=DATE:20250414
DTSTAMP:20260423T191455
CREATED:20250118T025202Z
LAST-MODIFIED:20250118T031107Z
UID:6023-1744156800-1744588799@www.treetopzencenter.org
SUMMARY:Mud Season Sesshin
DESCRIPTION:Wednesday 7pm Weekly Meditations				\n				\n				\n				\n							\n			\n		\n						\n				\n				\n				\n									\n					\n						\n									Click here to join the Zoom meeting.\n					\n					\n				\n								\n				\n				\n				\n					meeting ID: 825 3357 2460passcode: treetop.20				\n				\n					\n		\n					\n		\n				\n						\n					\n			\n						\n				\n							\n			\n		\n						\n				\n				\n				\n					About Our Meditations:				\n				\n				\n				\n							\n			\n		\n						\n				\n				\n				\n									Unless otherwise noted\, Treetop meets every Wednesday night and Saturday morning for meditation.The Wednesday program consists of two 25-minute periods of zazen (seated meditation). The first period ends with five minutes of kinhin (walking meditation)\, which is often followed by a brief talk with discussion. During the second sitting period\, the teachers offer daisan (a private interview to discuss practice) to those attending in person.The Saturday program begins with a 25-minute service followed by two 25-minute periods of zazen (seated meditation). The first period ends with five minutes of kinhin (walking meditation) and commonly a dharma talk or monthly recitation of the precepts (fusatsu). During the second sitting period\, the teachers offer daisan (a private interview to discuss practice) to those attending in person.We offer cushions as well as kneeling benches and chairs.								\n				\n				\n				\n							\n			\n		\n						\n				\n				\n				\n							\n			\n						\n		\n						\n				\n				\n				\n							\n			\n		\n						\n				\n				\n				\n					More information\, service books\, and chants:				\n				\n				\n				\n							\n			\n		\n						\n				\n				\n						\n					\n			\n						\n				\n									\n					\n						\n									Zen 1-2-3\n					\n					\n				\n								\n				\n				\n				\n									the basics of Zen and sitting 								\n				\n					\n		\n				\n			\n						\n				\n									\n					\n						\n									Gathas\n					\n					\n				\n								\n				\n				\n				\n									to follow along with our chants 								\n				\n					\n		\n				\n			\n						\n				\n									\n					\n						\n									Service Book\n					\n					\n				\n								\n				\n				\n				\n									to follow along with service chants 								\n				\n					\n		\n				\n			\n						\n				\n									\n					\n						\n									Fusatsu\n					\n					\n				\n								\n				\n				\n				\n									chants for the renewal of vows 								\n				\n					\n		\n					\n		\n					\n		\n					\n		\n				\n						\n					\n			\n						\n				\n							\n			\n						\n		\n						\n				\n				\n				\n							\n			\n		\n						\n				\n				\n				\n							\n			\n		\n						\n				\n				\n				\n					\n	\n		\n\n	\n	Add to calendar	\n		\n	\n\n		\n			\n									\n	Google Calendar\n\n									\n	iCalendar\n\n									\n	Outlook 365\n\n									\n	Outlook Live\n\n							\n		\n\n		\n	\n\n				\n				\n				\n				\n									\n					\n						\n									All Events
URL:https://www.treetopzencenter.org/event/mud-season-sesshin/
LOCATION:Treetop Zen Center\, 293 Country Club Road\, Oakland\, 04963\, United States
CATEGORIES:All Events,Sesshins
ATTACH;FMTTYPE=image/png:https://www.treetopzencenter.org/wp-content/uploads/2025/01/mud-season-resized-600.jpg.png
END:VEVENT
BEGIN:VEVENT
DTSTART;VALUE=DATE:20250108
DTEND;VALUE=DATE:20250113
DTSTAMP:20260423T191455
CREATED:20240603T184006Z
LAST-MODIFIED:20241226T062050Z
UID:4209-1736294400-1736726399@www.treetopzencenter.org
SUMMARY:Winter Sesshin
DESCRIPTION:Wednesday 7pm Weekly Meditations				\n				\n				\n				\n							\n			\n		\n						\n				\n				\n				\n									\n					\n						\n									Click here to join the Zoom meeting.\n					\n					\n				\n								\n				\n				\n				\n					meeting ID: 825 3357 2460passcode: treetop.20				\n				\n					\n		\n					\n		\n				\n						\n					\n			\n						\n				\n							\n			\n		\n						\n				\n				\n				\n					About Our Meditations:				\n				\n				\n				\n							\n			\n		\n						\n				\n				\n				\n									Unless otherwise noted\, Treetop meets every Wednesday night and Saturday morning for meditation.The Wednesday program consists of two 25-minute periods of zazen (seated meditation). The first period ends with five minutes of kinhin (walking meditation)\, which is often followed by a brief talk with discussion. During the second sitting period\, the teachers offer daisan (a private interview to discuss practice) to those attending in person.The Saturday program begins with a 25-minute service followed by two 25-minute periods of zazen (seated meditation). The first period ends with five minutes of kinhin (walking meditation) and commonly a dharma talk or monthly recitation of the precepts (fusatsu). During the second sitting period\, the teachers offer daisan (a private interview to discuss practice) to those attending in person.We offer cushions as well as kneeling benches and chairs.								\n				\n				\n				\n							\n			\n		\n						\n				\n				\n				\n							\n			\n						\n		\n						\n				\n				\n				\n							\n			\n		\n						\n				\n				\n				\n					More information\, service books\, and chants:				\n				\n				\n				\n							\n			\n		\n						\n				\n				\n						\n					\n			\n						\n				\n									\n					\n						\n									Zen 1-2-3\n					\n					\n				\n								\n				\n				\n				\n									the basics of Zen and sitting 								\n				\n					\n		\n				\n			\n						\n				\n									\n					\n						\n									Gathas\n					\n					\n				\n								\n				\n				\n				\n									to follow along with our chants 								\n				\n					\n		\n				\n			\n						\n				\n									\n					\n						\n									Service Book\n					\n					\n				\n								\n				\n				\n				\n									to follow along with service chants 								\n				\n					\n		\n				\n			\n						\n				\n									\n					\n						\n									Fusatsu\n					\n					\n				\n								\n				\n				\n				\n									chants for the renewal of vows 								\n				\n					\n		\n					\n		\n					\n		\n					\n		\n				\n						\n					\n			\n						\n				\n							\n			\n						\n		\n						\n				\n				\n				\n							\n			\n		\n						\n				\n				\n				\n							\n			\n		\n						\n				\n				\n				\n					\n	\n		\n\n	\n	Add to calendar	\n		\n	\n\n		\n			\n									\n	Google Calendar\n\n									\n	iCalendar\n\n									\n	Outlook 365\n\n									\n	Outlook Live\n\n							\n		\n\n		\n	\n\n				\n				\n				\n				\n									\n					\n						\n									All Events
URL:https://www.treetopzencenter.org/event/winter-sesshin/
LOCATION:Treetop Zen Center\, 293 Country Club Road\, Oakland\, 04963\, United States
CATEGORIES:All Events,Sesshins
ATTACH;FMTTYPE=image/jpeg:https://www.treetopzencenter.org/wp-content/uploads/2024/05/sessshin_photo.jpg
END:VEVENT
BEGIN:VEVENT
DTSTART;TZID=America/New_York:20240601T080000
DTEND;TZID=America/New_York:20240601T160000
DTSTAMP:20260423T191455
CREATED:20240603T180603Z
LAST-MODIFIED:20240603T180719Z
UID:4193-1717228800-1717257600@www.treetopzencenter.org
SUMMARY:Heart Sutra Study Group — June 1sh (pages 145–160)
DESCRIPTION:Wednesday 7pm Weekly Meditations				\n				\n				\n				\n							\n			\n		\n						\n				\n				\n				\n									\n					\n						\n									Click here to join the Zoom meeting.\n					\n					\n				\n								\n				\n				\n				\n					meeting ID: 825 3357 2460passcode: treetop.20				\n				\n					\n		\n					\n		\n				\n						\n					\n			\n						\n				\n							\n			\n		\n						\n				\n				\n				\n					About Our Meditations:				\n				\n				\n				\n							\n			\n		\n						\n				\n				\n				\n									Unless otherwise noted\, Treetop meets every Wednesday night and Saturday morning for meditation.The Wednesday program consists of two 25-minute periods of zazen (seated meditation). The first period ends with five minutes of kinhin (walking meditation)\, which is often followed by a brief talk with discussion. During the second sitting period\, the teachers offer daisan (a private interview to discuss practice) to those attending in person.The Saturday program begins with a 25-minute service followed by two 25-minute periods of zazen (seated meditation). The first period ends with five minutes of kinhin (walking meditation) and commonly a dharma talk or monthly recitation of the precepts (fusatsu). During the second sitting period\, the teachers offer daisan (a private interview to discuss practice) to those attending in person.We offer cushions as well as kneeling benches and chairs.								\n				\n				\n				\n							\n			\n		\n						\n				\n				\n				\n							\n			\n						\n		\n						\n				\n				\n				\n							\n			\n		\n						\n				\n				\n				\n					More information\, service books\, and chants:				\n				\n				\n				\n							\n			\n		\n						\n				\n				\n						\n					\n			\n						\n				\n									\n					\n						\n									Zen 1-2-3\n					\n					\n				\n								\n				\n				\n				\n									the basics of Zen and sitting 								\n				\n					\n		\n				\n			\n						\n				\n									\n					\n						\n									Gathas\n					\n					\n				\n								\n				\n				\n				\n									to follow along with our chants 								\n				\n					\n		\n				\n			\n						\n				\n									\n					\n						\n									Service Book\n					\n					\n				\n								\n				\n				\n				\n									to follow along with service chants 								\n				\n					\n		\n				\n			\n						\n				\n									\n					\n						\n									Fusatsu\n					\n					\n				\n								\n				\n				\n				\n									chants for the renewal of vows 								\n				\n					\n		\n					\n		\n					\n		\n					\n		\n				\n						\n					\n			\n						\n				\n							\n			\n						\n		\n						\n				\n				\n				\n							\n			\n		\n						\n				\n				\n				\n							\n			\n		\n						\n				\n				\n				\n					\n	\n		\n\n	\n	Add to calendar	\n		\n	\n\n		\n			\n									\n	Google Calendar\n\n									\n	iCalendar\n\n									\n	Outlook 365\n\n									\n	Outlook Live\n\n							\n		\n\n		\n	\n\n				\n				\n				\n				\n									\n					\n						\n									All Events
URL:https://www.treetopzencenter.org/event/heart-sutra-study-group-june-1st-pages-145-160/
LOCATION:Treetop Zen Center\, 293 Country Club Road\, Oakland\, 04963\, United States
CATEGORIES:All Events,Study Groups
ATTACH;FMTTYPE=image/png:https://www.treetopzencenter.org/wp-content/uploads/2024/06/study_group.png
END:VEVENT
END:VCALENDAR